BEGIN:VCALENDAR
VERSION:2.0
PRODID:icalendar-ruby
CALSCALE:GREGORIAN
METHOD:PUBLISH
BEGIN:VEVENT
DTSTAMP:20260421T090010Z
UID:http://greystonerealestate.com.au/property?property_id=1759585
DTSTART:20260516T110000
DTEND:20260516T113000
CLASS:PUBLIC
CREATED:20260415T193406
DESCRIPTION: 
LAST-MODIFIED:20260420T160421
LOCATION:5 / 5-6 Chelsworth Place\, CAROLINE SPRINGS VIC 3023\, Australia
SUMMARY:5 / 5-6 Chelsworth Place\,  Auction
URL;VALUE=URI:http://greystonerealestate.com.au/property?property_id=175958
 5
END:VEVENT
END:VCALENDAR
